BEGIN:VCALENDAR
VERSION:2.0
PRODID:-//Friends of the Ashland Public Library - ECPv6.0.13.1//NONSGML v1.0//EN
CALSCALE:GREGORIAN
METHOD:PUBLISH
X-ORIGINAL-URL:https://friendsoftheapl.org
X-WR-CALDESC:Events for Friends of the Ashland Public Library
REFRESH-INTERVAL;VALUE=DURATION:PT1H
X-Robots-Tag:noindex
X-PUBLISHED-TTL:PT1H
BEGIN:VTIMEZONE
TZID:America/New_York
BEGIN:DAYLIGHT
TZOFFSETFROM:-0500
TZOFFSETTO:-0400
TZNAME:EDT
DTSTART:20220313T070000
END:DAYLIGHT
BEGIN:STANDARD
TZOFFSETFROM:-0400
TZOFFSETTO:-0500
TZNAME:EST
DTSTART:20221106T060000
END:STANDARD
END:VTIMEZONE
BEGIN:VEVENT
DTSTART;TZID=America/New_York:20220402T140000
DTEND;TZID=America/New_York:20220402T153000
DTSTAMP:20260424T172230
CREATED:20210825T231009Z
LAST-MODIFIED:20211222T203318Z
UID:25807-1648908000-1648913400@friendsoftheapl.org
SUMMARY:Saturday Needlecraft Club *For Adults
DESCRIPTION:Bring your project (any portable needle arts welcome — knit\, needlepoint\, crochet\, Zentangle\, quilting\, sewing\, etc!) to our casual gathering where you can work\, talk\, and share ideas together. We’re trying two times — Mondays and Saturdays — for two months to see which is the best for our participants. At the end of October\, we’ll choose one to move forward.\n\n\n\nNo registration necessary – all are welcome! \nThis program is sponsored by the Friends of the Ashland Public Library. \nSign Up for our Newsletter!
URL:https://friendsoftheapl.org/event/saturday-needlecraft-club-for-adults-2021-09-18-2022-04-02/
LOCATION:Ashland Public Library\, 66 Front Street\, Ashland\, MA\, 01721\, United States
CATEGORIES:Adult Art,Adult Programs
END:VEVENT
BEGIN:VEVENT
DTSTART;TZID=America/New_York:20220404T180000
DTEND;TZID=America/New_York:20220404T193000
DTSTAMP:20260424T172230
CREATED:20210825T231407Z
LAST-MODIFIED:20211222T203522Z
UID:25643-1649095200-1649100600@friendsoftheapl.org
SUMMARY:Monday Needlecraft Club *For Adults
DESCRIPTION:Bring your project (any portable needle arts welcome — knit\, needlepoint\, crochet\, zentangle\, quilting\, sewing\, etc!) to our casual gathering where you can work\, talk\, and share ideas together. We’re trying two times — Mondays and Saturdays — for two months to see which is the best for our participants. At the end of October\, we’ll choose one to move forward.\n\n\n\nNo registration necessary – all are welcome! \nThis program is sponsored by the Friends of the Ashland Public Library. \nSign Up for our Newsletter!
URL:https://friendsoftheapl.org/event/monday-needlecraft-club-for-adults-2022-04-04/
LOCATION:Ashland Public Library\, 66 Front Street\, Ashland\, MA\, 01721\, United States
CATEGORIES:Adult Art,Adult Programs
END:VEVENT
BEGIN:VEVENT
DTSTART;TZID=America/New_York:20220409T140000
DTEND;TZID=America/New_York:20220409T153000
DTSTAMP:20260424T172230
CREATED:20210825T231009Z
LAST-MODIFIED:20211222T203319Z
UID:25808-1649512800-1649518200@friendsoftheapl.org
SUMMARY:Saturday Needlecraft Club *For Adults
DESCRIPTION:Bring your project (any portable needle arts welcome — knit\, needlepoint\, crochet\, Zentangle\, quilting\, sewing\, etc!) to our casual gathering where you can work\, talk\, and share ideas together. We’re trying two times — Mondays and Saturdays — for two months to see which is the best for our participants. At the end of October\, we’ll choose one to move forward.\n\n\n\nNo registration necessary – all are welcome! \nThis program is sponsored by the Friends of the Ashland Public Library. \nSign Up for our Newsletter!
URL:https://friendsoftheapl.org/event/saturday-needlecraft-club-for-adults-2021-09-18-2022-04-09/
LOCATION:Ashland Public Library\, 66 Front Street\, Ashland\, MA\, 01721\, United States
CATEGORIES:Adult Art,Adult Programs
END:VEVENT
BEGIN:VEVENT
DTSTART;TZID=America/New_York:20220411T180000
DTEND;TZID=America/New_York:20220411T193000
DTSTAMP:20260424T172230
CREATED:20210825T231407Z
LAST-MODIFIED:20211222T203523Z
UID:25644-1649700000-1649705400@friendsoftheapl.org
SUMMARY:Monday Needlecraft Club *For Adults
DESCRIPTION:Bring your project (any portable needle arts welcome — knit\, needlepoint\, crochet\, zentangle\, quilting\, sewing\, etc!) to our casual gathering where you can work\, talk\, and share ideas together. We’re trying two times — Mondays and Saturdays — for two months to see which is the best for our participants. At the end of October\, we’ll choose one to move forward.\n\n\n\nNo registration necessary – all are welcome! \nThis program is sponsored by the Friends of the Ashland Public Library. \nSign Up for our Newsletter!
URL:https://friendsoftheapl.org/event/monday-needlecraft-club-for-adults-2022-04-11/
LOCATION:Ashland Public Library\, 66 Front Street\, Ashland\, MA\, 01721\, United States
CATEGORIES:Adult Art,Adult Programs
END:VEVENT
BEGIN:VEVENT
DTSTART;TZID=America/New_York:20220416T140000
DTEND;TZID=America/New_York:20220416T153000
DTSTAMP:20260424T172230
CREATED:20210825T231009Z
LAST-MODIFIED:20211222T203320Z
UID:25809-1650117600-1650123000@friendsoftheapl.org
SUMMARY:Saturday Needlecraft Club *For Adults
DESCRIPTION:Bring your project (any portable needle arts welcome — knit\, needlepoint\, crochet\, Zentangle\, quilting\, sewing\, etc!) to our casual gathering where you can work\, talk\, and share ideas together. We’re trying two times — Mondays and Saturdays — for two months to see which is the best for our participants. At the end of October\, we’ll choose one to move forward.\n\n\n\nNo registration necessary – all are welcome! \nThis program is sponsored by the Friends of the Ashland Public Library. \nSign Up for our Newsletter!
URL:https://friendsoftheapl.org/event/saturday-needlecraft-club-for-adults-2021-09-18-2022-04-16/
LOCATION:Ashland Public Library\, 66 Front Street\, Ashland\, MA\, 01721\, United States
CATEGORIES:Adult Art,Adult Programs
END:VEVENT
BEGIN:VEVENT
DTSTART;TZID=America/New_York:20220418T180000
DTEND;TZID=America/New_York:20220418T193000
DTSTAMP:20260424T172230
CREATED:20210825T231407Z
LAST-MODIFIED:20211222T203524Z
UID:25645-1650304800-1650310200@friendsoftheapl.org
SUMMARY:Monday Needlecraft Club *For Adults
DESCRIPTION:Bring your project (any portable needle arts welcome — knit\, needlepoint\, crochet\, zentangle\, quilting\, sewing\, etc!) to our casual gathering where you can work\, talk\, and share ideas together. We’re trying two times — Mondays and Saturdays — for two months to see which is the best for our participants. At the end of October\, we’ll choose one to move forward.\n\n\n\nNo registration necessary – all are welcome! \nThis program is sponsored by the Friends of the Ashland Public Library. \nSign Up for our Newsletter!
URL:https://friendsoftheapl.org/event/monday-needlecraft-club-for-adults-2022-04-18/
LOCATION:Ashland Public Library\, 66 Front Street\, Ashland\, MA\, 01721\, United States
CATEGORIES:Adult Art,Adult Programs
END:VEVENT
BEGIN:VEVENT
DTSTART;TZID=America/New_York:20220423T140000
DTEND;TZID=America/New_York:20220423T153000
DTSTAMP:20260424T172230
CREATED:20210825T231009Z
LAST-MODIFIED:20211222T203321Z
UID:25810-1650722400-1650727800@friendsoftheapl.org
SUMMARY:Saturday Needlecraft Club *For Adults
DESCRIPTION:Bring your project (any portable needle arts welcome — knit\, needlepoint\, crochet\, Zentangle\, quilting\, sewing\, etc!) to our casual gathering where you can work\, talk\, and share ideas together. We’re trying two times — Mondays and Saturdays — for two months to see which is the best for our participants. At the end of October\, we’ll choose one to move forward.\n\n\n\nNo registration necessary – all are welcome! \nThis program is sponsored by the Friends of the Ashland Public Library. \nSign Up for our Newsletter!
URL:https://friendsoftheapl.org/event/saturday-needlecraft-club-for-adults-2021-09-18-2022-04-23/
LOCATION:Ashland Public Library\, 66 Front Street\, Ashland\, MA\, 01721\, United States
CATEGORIES:Adult Art,Adult Programs
END:VEVENT
BEGIN:VEVENT
DTSTART;TZID=America/New_York:20220425T180000
DTEND;TZID=America/New_York:20220425T193000
DTSTAMP:20260424T172230
CREATED:20210825T231407Z
LAST-MODIFIED:20211222T203524Z
UID:25646-1650909600-1650915000@friendsoftheapl.org
SUMMARY:Monday Needlecraft Club *For Adults
DESCRIPTION:Bring your project (any portable needle arts welcome — knit\, needlepoint\, crochet\, zentangle\, quilting\, sewing\, etc!) to our casual gathering where you can work\, talk\, and share ideas together. We’re trying two times — Mondays and Saturdays — for two months to see which is the best for our participants. At the end of October\, we’ll choose one to move forward.\n\n\n\nNo registration necessary – all are welcome! \nThis program is sponsored by the Friends of the Ashland Public Library. \nSign Up for our Newsletter!
URL:https://friendsoftheapl.org/event/monday-needlecraft-club-for-adults-2022-04-25/
LOCATION:Ashland Public Library\, 66 Front Street\, Ashland\, MA\, 01721\, United States
CATEGORIES:Adult Art,Adult Programs
END:VEVENT
BEGIN:VEVENT
DTSTART;TZID=America/New_York:20220430T140000
DTEND;TZID=America/New_York:20220430T153000
DTSTAMP:20260424T172230
CREATED:20210825T231009Z
LAST-MODIFIED:20211222T203322Z
UID:25811-1651327200-1651332600@friendsoftheapl.org
SUMMARY:Saturday Needlecraft Club *For Adults
DESCRIPTION:Bring your project (any portable needle arts welcome — knit\, needlepoint\, crochet\, Zentangle\, quilting\, sewing\, etc!) to our casual gathering where you can work\, talk\, and share ideas together. We’re trying two times — Mondays and Saturdays — for two months to see which is the best for our participants. At the end of October\, we’ll choose one to move forward.\n\n\n\nNo registration necessary – all are welcome! \nThis program is sponsored by the Friends of the Ashland Public Library. \nSign Up for our Newsletter!
URL:https://friendsoftheapl.org/event/saturday-needlecraft-club-for-adults-2021-09-18-2022-04-30/
LOCATION:Ashland Public Library\, 66 Front Street\, Ashland\, MA\, 01721\, United States
CATEGORIES:Adult Art,Adult Programs
END:VEVENT
END:VCALENDAR